BEGIN:VCALENDAR
VERSION:2.0
PRODID:-//Cubbington Parish Council//Meeting Calendar//EN
CALSCALE:GREGORIAN
METHOD:PUBLISH
BEGIN:VEVENT
UID:70718-20220519@cubbingtonparishcouncil.gov.uk
DTSTAMP:20260419T154352Z
DTSTART;VALUE=DATE:20220519
DTEND;VALUE=DATE:20220520
SUMMARY:Annual Parish Council Meeting &#8211\\; 19 May 2022
DESCRIPTION:Annual Parish Meeting\nView details: https://cubbingtonparishcouncil.gov.uk/meetings/annual-parish-council-meeting-19-may-2022/
URL:https://cubbingtonparishcouncil.gov.uk/meetings/annual-parish-council-meeting-19-may-2022/
END:VEVENT
END:VCALENDAR
